BEGIN:VCALENDAR
VERSION:2.0
PRODID:-//Headway Essex - ECPv6.15.20//NONSGML v1.0//EN
CALSCALE:GREGORIAN
METHOD:PUBLISH
X-WR-CALNAME:Headway Essex
X-ORIGINAL-URL:https://www.headwayessex.org.uk
X-WR-CALDESC:Events for Headway Essex
REFRESH-INTERVAL;VALUE=DURATION:PT1H
X-Robots-Tag:noindex
X-PUBLISHED-TTL:PT1H
BEGIN:VTIMEZONE
TZID:Europe/London
BEGIN:DAYLIGHT
TZOFFSETFROM:+0000
TZOFFSETTO:+0100
TZNAME:BST
DTSTART:20250330T010000
END:DAYLIGHT
BEGIN:STANDARD
TZOFFSETFROM:+0100
TZOFFSETTO:+0000
TZNAME:GMT
DTSTART:20251026T010000
END:STANDARD
BEGIN:DAYLIGHT
TZOFFSETFROM:+0000
TZOFFSETTO:+0100
TZNAME:BST
DTSTART:20260329T010000
END:DAYLIGHT
BEGIN:STANDARD
TZOFFSETFROM:+0100
TZOFFSETTO:+0000
TZNAME:GMT
DTSTART:20261025T010000
END:STANDARD
BEGIN:DAYLIGHT
TZOFFSETFROM:+0000
TZOFFSETTO:+0100
TZNAME:BST
DTSTART:20270328T010000
END:DAYLIGHT
BEGIN:STANDARD
TZOFFSETFROM:+0100
TZOFFSETTO:+0000
TZNAME:GMT
DTSTART:20271031T010000
END:STANDARD
END:VTIMEZONE
BEGIN:VEVENT
DTSTART;TZID=Europe/London:20260401T000000
DTEND;TZID=Europe/London:20261031T000000
DTSTAMP:20260421T233104
CREATED:20250710T103344Z
LAST-MODIFIED:20250710T111244Z
UID:26162-1775001600-1793404800@www.headwayessex.org.uk
SUMMARY:Inca Trail to Machu Picchu
DESCRIPTION:[vc_row][vc_column][vc_single_image image=”26163″ img_size=”full” alignment=”center”][vc_column_text]Inca Trail to Machu Picchu (10 days) \nApril – October 2026 various dates \n25 Apr 2026 – 04 May 2026 \n05 Sep 2026 – 14 Sep 2026 \n10 Oct 2026 – 19 Oct 2026 \nMachu Picchu is one of the most iconic sights in South America\, and the culmination of our magnificent Inca Trail trek through the Peruvian Andes. Trek this breathtakingly beautiful route through valleys and high passes\, scattered with fascinating Inca ruins. \nTrekking on Inca-paved paths and steps\, the route takes you up through lush cloudforest to the demanding Dead Woman’s Pass (4200m). Continually climbing up or dropping down\, the way is steep at times\, and the altitude adds to the challenge. Finally to the Sun Gate\, which overlooks Machu Picchu\, where your first magical glimpse provides an unforgettable reward for your efforts. \nFor more details register your interest today![/vc_column_text][/vc_column][/vc_row][vc_row][vc_column]\n	Notice: JavaScript is required for this content.\n\n\n    \n\n\n        \n        \n                \n\n        \n\n        [/vc_column][/vc_row]
URL:https://www.headwayessex.org.uk/headway-events/inca-trail-to-machu-picchu/
CATEGORIES:Challenge Events,Challenge Yourself
ATTACH;FMTTYPE=image/jpeg:https://www.headwayessex.org.uk/wp-content/uploads/2025/07/machu-picchu.jpg
END:VEVENT
END:VCALENDAR