BEGIN:VCALENDAR
VERSION:2.0
PRODID:-//Headway Essex - ECPv6.15.20//NONSGML v1.0//EN
CALSCALE:GREGORIAN
METHOD:PUBLISH
X-WR-CALNAME:Headway Essex
X-ORIGINAL-URL:https://www.headwayessex.org.uk
X-WR-CALDESC:Events for Headway Essex
REFRESH-INTERVAL;VALUE=DURATION:PT1H
X-Robots-Tag:noindex
X-PUBLISHED-TTL:PT1H
BEGIN:VTIMEZONE
TZID:Europe/London
BEGIN:DAYLIGHT
TZOFFSETFROM:+0000
TZOFFSETTO:+0100
TZNAME:BST
DTSTART:20240331T010000
END:DAYLIGHT
BEGIN:STANDARD
TZOFFSETFROM:+0100
TZOFFSETTO:+0000
TZNAME:GMT
DTSTART:20241027T010000
END:STANDARD
BEGIN:DAYLIGHT
TZOFFSETFROM:+0000
TZOFFSETTO:+0100
TZNAME:BST
DTSTART:20250330T010000
END:DAYLIGHT
BEGIN:STANDARD
TZOFFSETFROM:+0100
TZOFFSETTO:+0000
TZNAME:GMT
DTSTART:20251026T010000
END:STANDARD
BEGIN:DAYLIGHT
TZOFFSETFROM:+0000
TZOFFSETTO:+0100
TZNAME:BST
DTSTART:20260329T010000
END:DAYLIGHT
BEGIN:STANDARD
TZOFFSETFROM:+0100
TZOFFSETTO:+0000
TZNAME:GMT
DTSTART:20261025T010000
END:STANDARD
BEGIN:DAYLIGHT
TZOFFSETFROM:+0000
TZOFFSETTO:+0100
TZNAME:BST
DTSTART:20270328T010000
END:DAYLIGHT
BEGIN:STANDARD
TZOFFSETFROM:+0100
TZOFFSETTO:+0000
TZNAME:GMT
DTSTART:20271031T010000
END:STANDARD
END:VTIMEZONE
BEGIN:VEVENT
DTSTART;TZID=Europe/London:20251003T000000
DTEND;TZID=Europe/London:20260906T233000
DTSTAMP:20260421T185316
CREATED:20250710T121452Z
LAST-MODIFIED:20250710T121538Z
UID:26178-1759449600-1788737400@www.headwayessex.org.uk
SUMMARY:Jurassic Coast Trek
DESCRIPTION:[vc_row][vc_column][vc_single_image image=”26179″ img_size=”full” alignment=”center”][vc_column_text] \n\n\n\nStretching between Old Harry Rocks in Dorset\, to Orcombe Point in East Devon\, the Jurassic Coast – England’s first Natural World Heritage Site – is the most geologically diverse coastline in the world. The exposed cliff sections allow you to look back through 185 million years of time; dinosaur remains have been found here\, and it’s a fossil-hunter’s paradise. With a more recent history of mining\, shipwrecks and smuggling\, this is a fascinating stretch of coastline. \nOver two days\, we trek a section of approx. 23 miles\, taking in some of the Jurassic Coast’s most dramatic scenery\, including the renowned natural stone archway of Durdle Door and beautiful circular Lulworth Cove. \nVarious dates \n\n\n\n\n\n03 Oct 2025 – 05 Oct 2025 \n15 May 2026 – 17 May 2026 \n04 Sep 2026 – 06 Sep 2026 \n\n\n\n\n\nRegister your interest for more details[/vc_column_text][/vc_column][/vc_row][vc_row][vc_column]\n	Notice: JavaScript is required for this content.\n\n\n    \n\n\n        \n        \n                \n\n        \n\n        [/vc_column][/vc_row]
URL:https://www.headwayessex.org.uk/headway-events/jurassic-coast-trek/
CATEGORIES:Challenge Events,Challenge Yourself
ATTACH;FMTTYPE=image/jpeg:https://www.headwayessex.org.uk/wp-content/uploads/2025/07/1478538577-1478538226-durdle_door_jurassic_coastjpg.jpg
END:VEVENT
BEGIN:VEVENT
DTSTART;TZID=Europe/London:20260130T000000
DTEND;TZID=Europe/London:20260928T233000
DTSTAMP:20260421T185316
CREATED:20250710T114758Z
LAST-MODIFIED:20250710T114758Z
UID:26173-1769731200-1790638200@www.headwayessex.org.uk
SUMMARY:Ho Chi Minh to Angkor Wat Cycle
DESCRIPTION:[vc_row][vc_column][vc_single_image image=”26174″ img_size=”full” alignment=”center”][vc_column_text] \nHo Chi Minh To Angkor Wat Cycle \n12 days • Cambodia\, Vietnam \nFebruary and September 2026 \nCycle through beautiful rural landscapes dotted with ruins of ancient civilisations\, and small towns where Buddhist temples contrast among well-preserved French-era buildings and ramshackle houses. \nThis challenge takes you from Vietnamese Saigon\, now Ho Chi Minh City\, through the rice-paddies and waterways of the beautiful Mekong Delta into Cambodia. Pedal on through this friendly country towards one of the most impressive sights in Southeast Asia: the Royal Temples of Angkor Wat. \nVarious dates available \n\n\n\n31 Jan 2026 – 11 Feb 2026 \n\n\n\n\n\n\n26 Sep 2026 – 07 Oct 2026 \n\n\n\nRegister your interest for more details[/vc_column_text][/vc_column][/vc_row][vc_row][vc_column]\n	Notice: JavaScript is required for this content.\n\n\n    \n\n\n        \n        \n                \n\n        \n\n        [/vc_column][/vc_row]
URL:https://www.headwayessex.org.uk/headway-events/ho-chi-minh-to-angkor-wat-cycle/
CATEGORIES:Challenge Events,Challenge Yourself
ATTACH;FMTTYPE=image/jpeg:https://www.headwayessex.org.uk/wp-content/uploads/2025/07/Ho-Chi-Minh-to-Angkor-Wat.jpg
END:VEVENT
BEGIN:VEVENT
DTSTART;TZID=Europe/London:20260307T100000
DTEND;TZID=Europe/London:20260307T140000
DTSTAMP:20260421T185316
CREATED:20260224T154959Z
LAST-MODIFIED:20260224T155348Z
UID:28848-1772877600-1772892000@www.headwayessex.org.uk
SUMMARY:Headway Essex Spring Makers Market
DESCRIPTION:[vc_row][vc_column][vc_column_text]🌸 Spring Makers Market 🌸\nHandmade gifts • Local makers • Family fun \nJoin us on Saturday 7 March 2026 for our Spring Makers Market!\nEnjoy a fun day out for the whole family\, browse beautiful handmade gifts\, crafts\, and unique designs\, and find a meaningful Mother’s Day gift or the perfect Easter treat. \nHeadway Essex Spring Makers Market\nSaturday 7 March 2026\n10am – 2pm\nKingsland Church\, London Road\, Colchester\, CO3 9DW \nFree entry and ample parking – all are welcome!\nSave the date and bring a friend.\nAccessible venue with a large café on site.[/vc_column_text][/vc_column][/vc_row][vc_row][vc_column][vc_single_image image=”28851″ img_size=”full” alignment=”center”][/vc_column][/vc_row]
URL:https://www.headwayessex.org.uk/headway-events/headway-essex-spring-makers-market/
LOCATION:Kingsland Church\, London Road\, Colchester\, Essex\, CO3 9DW\, United Kingdom
CATEGORIES:Headway Essex Events
ATTACH;FMTTYPE=image/jpeg:https://www.headwayessex.org.uk/wp-content/uploads/2026/02/Spring-Makers-Market-Facebook-event-post.jpg
END:VEVENT
BEGIN:VEVENT
DTSTART;VALUE=DATE:20260308
DTEND;VALUE=DATE:20260309
DTSTAMP:20260421T185316
CREATED:20250423T162304Z
LAST-MODIFIED:20250424T085835Z
UID:25815-1772928000-1773014399@www.headwayessex.org.uk
SUMMARY:Colchester Half Marathon 2026
DESCRIPTION:[vc_row][vc_column][vc_single_image image=”25819″ img_size=”large”][vc_column_text]The Colchester Half Marathon is back for 2026! \nWe have secured a limited number of places for the Colchester Half Marathon. This 13.1 mile race makes its way through the historic city of Colchester on Sunday 8th March 2026. \nHeadway Essex empowers brain injury survivors\, offering them support\, guidance\, and hope for a brighter future. By taking up this challenge and raising money for Headway Essex\, you can help us continue this vital work. \nRegister today and make every step count! \nWhen: Sunday 8th March 2026 \nWhere: Colchester \nStarting and finishing at the JobServe Community Stadium – the route will take you past some of Colchester’s iconic landmarks!Thousands of people line the streets to cheer you on as you run through the City centre\, and out into the scenic country lanes surrounding Colchester! \nFundraising target: £150 \nTo register your interest or for more information please complete the form and our fundraising team will be in touch\, alternatively email fundraising@headwayessex.org.uk or call 01206 845945 \n\n	Notice: JavaScript is required for this content.\n\n\n    \n\n\n        \n        \n                \n\n        \n\n        [/vc_column_text][/vc_column][/vc_row][vc_row][vc_column][/vc_column][/vc_row]
URL:https://www.headwayessex.org.uk/headway-events/colchester-half-marathon-2026/
CATEGORIES:Challenge Events,Challenge Yourself
ATTACH;FMTTYPE=image/jpeg:https://www.headwayessex.org.uk/wp-content/uploads/2025/04/Colchester-Half-2026.jpg
END:VEVENT
BEGIN:VEVENT
DTSTART;TZID=Europe/London:20260327T190000
DTEND;TZID=Europe/London:20260327T213000
DTSTAMP:20260421T185316
CREATED:20260224T161045Z
LAST-MODIFIED:20260224T161045Z
UID:28857-1774638000-1774647000@www.headwayessex.org.uk
SUMMARY:Headway Essex Quiz Night
DESCRIPTION:[vc_row][vc_column][vc_column_text]Headway Essex Quiz Night!\nReady to put your knowledge to the test while supporting an amazing cause? Gather your friends and join us for a fantastic evening of fun\, laughter and friendly competition! \nFriday 27th March\n7:00 PM – 9:30 PM\nPhilip Morant School and College\nRembrandt Way\, Colchester CO3 4QS\nAmple FREE parking available \n£5 per entry (Maximum 6 people per team) \nReady to test your knowledge?\nHave fun with friends?\nHelp others at the same time? \nEvery penny raised supports Headway Essex\, helping people impacted by brain injury achieve a life of fulfilment and purpose.\nSo round up your dream team\, brush up on those trivia skills\, and join us for a brilliant night out for a brilliant cause! \nEmail fundraising@headwayessex.org.uk or call 01206 845945 to book \nLet’s get quizzing![/vc_column_text][/vc_column][/vc_row][vc_row][vc_column][vc_single_image image=”28858″ img_size=”full” alignment=”center”][/vc_column][/vc_row]
URL:https://www.headwayessex.org.uk/headway-events/headway-essex-quiz-night/
LOCATION:Philip Morant School and College\, Rembrandt Way\, Colchester\, Essex\, CO3 4QS\, United Kingdom
CATEGORIES:Headway Essex Events
ATTACH;FMTTYPE=image/jpeg:https://www.headwayessex.org.uk/wp-content/uploads/2026/02/Spring-Makers-Market-Facebook-event-post-1.jpg
END:VEVENT
END:VCALENDAR