BEGIN:VCALENDAR
VERSION:2.0
PRODID:-//Headway Essex - ECPv6.15.20//NONSGML v1.0//EN
CALSCALE:GREGORIAN
METHOD:PUBLISH
X-WR-CALNAME:Headway Essex
X-ORIGINAL-URL:https://www.headwayessex.org.uk
X-WR-CALDESC:Events for Headway Essex
REFRESH-INTERVAL;VALUE=DURATION:PT1H
X-Robots-Tag:noindex
X-PUBLISHED-TTL:PT1H
BEGIN:VTIMEZONE
TZID:Europe/London
BEGIN:DAYLIGHT
TZOFFSETFROM:+0000
TZOFFSETTO:+0100
TZNAME:BST
DTSTART:20240331T010000
END:DAYLIGHT
BEGIN:STANDARD
TZOFFSETFROM:+0100
TZOFFSETTO:+0000
TZNAME:GMT
DTSTART:20241027T010000
END:STANDARD
BEGIN:DAYLIGHT
TZOFFSETFROM:+0000
TZOFFSETTO:+0100
TZNAME:BST
DTSTART:20250330T010000
END:DAYLIGHT
BEGIN:STANDARD
TZOFFSETFROM:+0100
TZOFFSETTO:+0000
TZNAME:GMT
DTSTART:20251026T010000
END:STANDARD
BEGIN:DAYLIGHT
TZOFFSETFROM:+0000
TZOFFSETTO:+0100
TZNAME:BST
DTSTART:20260329T010000
END:DAYLIGHT
BEGIN:STANDARD
TZOFFSETFROM:+0100
TZOFFSETTO:+0000
TZNAME:GMT
DTSTART:20261025T010000
END:STANDARD
END:VTIMEZONE
BEGIN:VEVENT
DTSTART;VALUE=DATE:20250921
DTEND;VALUE=DATE:20250922
DTSTAMP:20260422T104833
CREATED:20250211T162454Z
LAST-MODIFIED:20260323T135858Z
UID:20710-1758412800-1758499199@www.headwayessex.org.uk
SUMMARY:Headway Essex Classic Vehicle Show 2025
DESCRIPTION:[vc_row][vc_column][vc_single_image image=”20757″ img_size=”full” alignment=”center” onclick=”custom_link” img_link_target=”_blank”][vc_column_text] \nHead down to Castle Park\, Colchester on Sunday 21st September for a fun-packed day with the family!\nHeadway Essex is hosting our annual Essex Classic Vehicle Show and this year is set to be another roaring success! Lower Castle Park will be filled to the brim with over 200 classic cars\, along with entertainment and a variety of stalls – there is something for everyone. Come and join the fun and help Headway Essex continue to support adults living in Essex with an acquired brain injury. \nSunday 21st September 2025\n 10:30am – 4:00pm\nLower Castle Park\, Colchester Castle\, High Street\, Colchester\, CO1 1UW\nPublic Admission  \n \nAdult Ticket £7 \nChild Ticket £4 (under threes go FREE) \nConcessions Ticket £4 \nFamily Ticket £15 (under threes go FREE) \nOnline booking has now closed but don’t worry you can buy them on the gate! \nExhibitors\nPlease note that we cannot accept exhibitor bookings after 1st September 2025 \n  \nHeadway Essex will have a photographer at the event. Visitors irrevocably consent to the Photographer using the Photographs for any purpose whatsoever\, including public display\, portfolio display\, non-commercial publication in any media\, commercial publication in any media. Visitors irrevocably consent to the Photographer using the Photographs in the EEA including the UK and globally. \n[/vc_column_text][/vc_column][/vc_row]
URL:https://www.headwayessex.org.uk/headway-events/headway-essex-classic-vehicle-show-2025/
LOCATION:Lower Castle Park\, Castle Rd\, Colchester\, CO1 1UW
CATEGORIES:Headway Essex Events
ATTACH;FMTTYPE=image/jpeg:https://www.headwayessex.org.uk/wp-content/uploads/2025/02/Headway-Essex-Classic-Vehicle-Show-2025-events-image-web-1.jpg
ORGANIZER;CN="Headway Essex":MAILTO:fundraising@headwayessex.org.uk
END:VEVENT
END:VCALENDAR