BEGIN:VCALENDAR
VERSION:2.0
PRODID:-//Headway Essex - ECPv6.15.20//NONSGML v1.0//EN
CALSCALE:GREGORIAN
METHOD:PUBLISH
X-ORIGINAL-URL:https://www.headwayessex.org.uk
X-WR-CALDESC:Events for Headway Essex
REFRESH-INTERVAL;VALUE=DURATION:PT1H
X-Robots-Tag:noindex
X-PUBLISHED-TTL:PT1H
BEGIN:VTIMEZONE
TZID:Europe/London
BEGIN:DAYLIGHT
TZOFFSETFROM:+0000
TZOFFSETTO:+0100
TZNAME:BST
DTSTART:20230326T010000
END:DAYLIGHT
BEGIN:STANDARD
TZOFFSETFROM:+0100
TZOFFSETTO:+0000
TZNAME:GMT
DTSTART:20231029T010000
END:STANDARD
BEGIN:DAYLIGHT
TZOFFSETFROM:+0000
TZOFFSETTO:+0100
TZNAME:BST
DTSTART:20240331T010000
END:DAYLIGHT
BEGIN:STANDARD
TZOFFSETFROM:+0100
TZOFFSETTO:+0000
TZNAME:GMT
DTSTART:20241027T010000
END:STANDARD
BEGIN:DAYLIGHT
TZOFFSETFROM:+0000
TZOFFSETTO:+0100
TZNAME:BST
DTSTART:20250330T010000
END:DAYLIGHT
BEGIN:STANDARD
TZOFFSETFROM:+0100
TZOFFSETTO:+0000
TZNAME:GMT
DTSTART:20251026T010000
END:STANDARD
BEGIN:DAYLIGHT
TZOFFSETFROM:+0000
TZOFFSETTO:+0100
TZNAME:BST
DTSTART:20260329T010000
END:DAYLIGHT
BEGIN:STANDARD
TZOFFSETFROM:+0100
TZOFFSETTO:+0000
TZNAME:GMT
DTSTART:20261025T010000
END:STANDARD
END:VTIMEZONE
BEGIN:VEVENT
DTSTART;TZID=Europe/London:20240502T000000
DTEND;TZID=Europe/London:20250822T000000
DTSTAMP:20260423T033922
CREATED:20240502T152700Z
LAST-MODIFIED:20240502T154015Z
UID:19090-1714608000-1755820800@www.headwayessex.org.uk
SUMMARY:Snowdon by Night
DESCRIPTION:[vc_row][vc_column][vc_column_text]Experience this magical trek when you reach the summit at moonlight and see the sunrise as you make the descent. \nVarious dates available in 2024 and 2025 \nRegister your interest for more details[/vc_column_text][/vc_column][/vc_row][vc_row][vc_column]                    \n\n                        \n                            \n                        \n                        \n                        \n                                                        \n                                                                    \n                                        \n                                    \n                                                                        \n                                        \n                                    \n                                                                        \n                                        \n                                    \n                                                                        \n                                        \n                                    \n                                                                        \n                                        \n                                    \n                                                                                                    \n                                        \n                                         \n                                        55NM0\n                                        \n                                        \n                                    \n                                    \n                                                                \n                                    \n                                    \n\n                                    \n                                        SEND MESSAGE\n                                    \n                                                                        \n                                    \n                                    \n                                    \n                                                                    \n                                \n                            \n                        \n\n                    \n                    \n                    [/vc_column][/vc_row][vc_row][vc_column]\n	Notice: JavaScript is required for this content.\n\n\n    \n\n\n        \n        \n                \n\n        \n\n        [/vc_column][/vc_row]
URL:https://www.headwayessex.org.uk/headway-events/snowdon-by-night/
ATTACH;FMTTYPE=image/jpeg:https://www.headwayessex.org.uk/wp-content/uploads/2024/05/Snowdon.jpg
END:VEVENT
BEGIN:VEVENT
DTSTART;VALUE=DATE:20250316
DTEND;VALUE=DATE:20250317
DTSTAMP:20260423T033922
CREATED:20241127T113920Z
LAST-MODIFIED:20241127T114156Z
UID:20360-1742083200-1742169599@www.headwayessex.org.uk
SUMMARY:Colchester Half Marathon 2025
DESCRIPTION:[vc_row][vc_column][vc_single_image image=”20361″ img_size=”large”][vc_column_text] \nThe Colchester Half Marathon is back for 2025! \nWe have secured a limited number of places for the Colchester Half Marathon. This 13.1 mile race makes its way through the historic city of Colchester on Sunday 16th March. \nHeadway Essex empowers brain injury survivors\, offering them support\, guidance\, and hope for a brighter future. By taking up this challenge and raising money for Headway Essex\, you can help us continue this vital work. \nRegister today and make every step count! \nWhen: Sunday 16th March 2025 \nWhere: Colchester \nStarting and finishing at the JobServe Community Stadium – the route will take you past some of Colchester’s iconic landmarks!Thousands of people line the streets to cheer you on as you run through the City centre\, and out into the scenic country lanes surrounding Colchester! \nFundraising target: £150 \nTo register your interest or for more information please complete the form and our fundraising team will be in touch\, alternatively email fundraising@headwayessex.org.uk or call 01206 845945 \n\n	Notice: JavaScript is required for this content.\n\n\n    \n\n\n        \n        \n                \n\n        \n\n        [/vc_column_text][/vc_column][/vc_row][vc_row][vc_column][/vc_column][/vc_row]
URL:https://www.headwayessex.org.uk/headway-events/colchester-half-marathon-2025/
CATEGORIES:Challenge Events,Challenge Yourself
ATTACH;FMTTYPE=image/jpeg:https://www.headwayessex.org.uk/wp-content/uploads/2024/11/Colchester-Half-Marathon-crop.jpg
END:VEVENT
END:VCALENDAR